BEGIN:VCALENDAR
VERSION:2.0
PRODID:-//Artie Hoffman The Jersey Psychic - ECPv6.15.13//NONSGML v1.0//EN
CALSCALE:GREGORIAN
METHOD:PUBLISH
X-WR-CALNAME:Artie Hoffman The Jersey Psychic
X-ORIGINAL-URL:https://soultosoulwithartie.com
X-WR-CALDESC:Events for Artie Hoffman The Jersey Psychic
REFRESH-INTERVAL;VALUE=DURATION:PT1H
X-Robots-Tag:noindex
X-PUBLISHED-TTL:PT1H
BEGIN:VTIMEZONE
TZID:America/Denver
BEGIN:DAYLIGHT
TZOFFSETFROM:-0700
TZOFFSETTO:-0600
TZNAME:MDT
DTSTART:20250309T090000
END:DAYLIGHT
BEGIN:STANDARD
TZOFFSETFROM:-0600
TZOFFSETTO:-0700
TZNAME:MST
DTSTART:20251102T080000
END:STANDARD
BEGIN:DAYLIGHT
TZOFFSETFROM:-0700
TZOFFSETTO:-0600
TZNAME:MDT
DTSTART:20260308T090000
END:DAYLIGHT
BEGIN:STANDARD
TZOFFSETFROM:-0600
TZOFFSETTO:-0700
TZNAME:MST
DTSTART:20261101T080000
END:STANDARD
BEGIN:DAYLIGHT
TZOFFSETFROM:-0700
TZOFFSETTO:-0600
TZNAME:MDT
DTSTART:20270314T090000
END:DAYLIGHT
BEGIN:STANDARD
TZOFFSETFROM:-0600
TZOFFSETTO:-0700
TZNAME:MST
DTSTART:20271107T080000
END:STANDARD
END:VTIMEZONE
BEGIN:VEVENT
DTSTART;TZID=America/Denver:20260113T190000
DTEND;TZID=America/Denver:20260113T210000
DTSTAMP:20260424T035258
CREATED:20251211T135229Z
LAST-MODIFIED:20251212T072040Z
UID:10000002-1768330800-1768338000@soultosoulwithartie.com
SUMMARY:AMERICAN HOTEL | January 13\, 2026
DESCRIPTION:Psychic Event with Artie Hoffman LIVE! \n18–20 E. Main St.\nFreehold\, NJ 07728 \nDoors Open: 6:30 PM \nShowtime: 7:00 PM \n\nCash event — exact amount appreciated\n$45 per person\, payment at the door\nNo refunds/exchanges due to limited audience\nEarly reservations: Dpalaima53@gmail.com\n\nWe have limited space for a more intimate and personal experience. \nFood & drink are separate (tax & tip). \nMenu includes finger foods & desserts \n(Purchase required when attending the event.) \nYou may record your session and bring a picture of a loved one for a connection. \nArtie is not only a known psychic/medium—he is also very entertaining! \nIf you’d like an Artie Party (event at your home)\, please contact me.
URL:https://soultosoulwithartie.com/event/american-hotel-january-13-2026/
LOCATION:NJ
ATTACH;FMTTYPE=image/webp:https://soultosoulwithartie.com/wp-content/uploads/2025/12/our-services-29_our-services-29_image3.webp
END:VEVENT
END:VCALENDAR